BEGIN:VCALENDAR
VERSION:2.0
PRODID:-//eventon.com NONSGML v1.0//EN
CALSCALE:GREGORIAN
METHOD:PUBLISH
BEGIN:VEVENT
UID:69e7331fbde72
DTSTAMP:20260421T081943Z
DTSTART:20250421T190000Z
DTEND:20250421T203000Z
LOCATION:
SUMMARY:Beaverton\,  OR - Marie in conversation with NYT bestselling author Kristina McMorris
DESCRIPTION:Join Marie and NYT bestselling author Kristina McMorris as they
  greet readers and discuss The Book Club for Troublesome Women at Powell&#8
 217;s Books at Cedar Hills Crossing\,  3415 SW Cedar Hills Blvd\,  Beaverto
 n\,  Oregon\,  &nbsp;on Monday\,  April 21st at 7pm.\nhttps://mariebostwick
 .com/events/beaverton-or-marie-in-conversation-with-nyt-bestselling-author-
 kristina-mcmorris/
URL:https://mariebostwick.com/events/beaverton-or-marie-in-conversation-with-nyt-bestselling-author-kristina-mcmorris/
END:VEVENT
END:VCALENDAR