BEGIN:VCALENDAR
VERSION:2.0
PRODID:-//eventon.com NONSGML v1.0//EN
CALSCALE:GREGORIAN
METHOD:PUBLISH
BEGIN:VEVENT
UID:69e71a39978c3
DTSTAMP:20260421T063329Z
DTSTART:20250507T190000Z
DTEND:20250507T210000Z
LOCATION:
SUMMARY:Spartanburg\,  SC - Mother's Day Celebration with Spruce Interiors
DESCRIPTION:Drop by Spruce Interiors\,  844 S. Pine Street\,  Spartanburg\,
   SC on May 7th\,  between 3 and 5pm\,  to meet Marie and get a signed copy
  of The Book Club for Troublesome Women\,  as well as other beautiful gifts
  for your special Mom!&nbsp;\nhttps://mariebostwick.com/events/spartanburg-
 sc-mothers-day-celebration-with-spruce-interiors/
URL:https://mariebostwick.com/events/spartanburg-sc-mothers-day-celebration-with-spruce-interiors/
END:VEVENT
END:VCALENDAR